BEGIN:VCALENDAR
VERSION:2.0
PRODID:-//hacksw/handcal//NONSGML v1.0//EN
BEGIN:VTIMEZONE
TZID:Europe/Vienna
BEGIN:DAYLIGHT
TZOFFSETFROM:+0100
RRULE:FREQ=YEARLY;BYMONTH=3;BYDAY=-1SU
DTSTART:19810329T020000
TZNAME:MESZ
TZOFFSETTO:+0200
END:DAYLIGHT
BEGIN:STANDARD
TZOFFSETFROM:+0200
RRULE:FREQ=YEARLY;BYMONTH=10;BYDAY=-1SU
DTSTART:19961027T030000
TZNAME:MEZ
TZOFFSETTO:+0100
END:STANDARD
END:VTIMEZONE
BEGIN:VEVENT
UID:f8fd57cdc24b2773723d76a5dc4bfd37@brut-wien.at
DTSTAMP:20260419T223608
DTSTART;TZID=Europe/Vienna:20260610T190000
DTEND;TZID=Europe/Vienna;VALUE=DATE:20260610T220000
SUMMARY:FOR NOW
LOCATION: brut nordwest Nordwestbahnstraße 8-10 1200 Vienna
END:VEVENT
END:VCALENDAR