BEGIN:VCALENDAR
VERSION:2.0
PRODID:-//hacksw/handcal//NONSGML v1.0//EN
BEGIN:VTIMEZONE
TZID:Europe/Vienna
BEGIN:DAYLIGHT
TZOFFSETFROM:+0100
RRULE:FREQ=YEARLY;BYMONTH=3;BYDAY=-1SU
DTSTART:19810329T020000
TZNAME:MESZ
TZOFFSETTO:+0200
END:DAYLIGHT
BEGIN:STANDARD
TZOFFSETFROM:+0200
RRULE:FREQ=YEARLY;BYMONTH=10;BYDAY=-1SU
DTSTART:19961027T030000
TZNAME:MEZ
TZOFFSETTO:+0100
END:STANDARD
END:VTIMEZONE
BEGIN:VEVENT
UID:2faea8e6dc5964b44179a77d1b08c791@brut-wien.at
DTSTAMP:20260420T001228
DTSTART;TZID=Europe/Vienna:20260611T190000
DTEND;TZID=Europe/Vienna;VALUE=DATE:20260611T220000
SUMMARY:FOR NOW
LOCATION: brut nordwest Nordwestbahnstraße 8-10 1200 Wien
END:VEVENT
END:VCALENDAR